BEGIN:VCALENDAR
VERSION:2.0
PRODID:-//Stuart Gibbs - ECPv6.15.20//NONSGML v1.0//EN
CALSCALE:GREGORIAN
METHOD:PUBLISH
X-WR-CALNAME:Stuart Gibbs
X-ORIGINAL-URL:https://stuartgibbs.com
X-WR-CALDESC:Events for Stuart Gibbs
REFRESH-INTERVAL;VALUE=DURATION:PT1H
X-Robots-Tag:noindex
X-PUBLISHED-TTL:PT1H
BEGIN:VTIMEZONE
TZID:America/Los_Angeles
BEGIN:DAYLIGHT
TZOFFSETFROM:-0800
TZOFFSETTO:-0700
TZNAME:PDT
DTSTART:20250309T100000
END:DAYLIGHT
BEGIN:STANDARD
TZOFFSETFROM:-0700
TZOFFSETTO:-0800
TZNAME:PST
DTSTART:20251102T090000
END:STANDARD
BEGIN:DAYLIGHT
TZOFFSETFROM:-0800
TZOFFSETTO:-0700
TZNAME:PDT
DTSTART:20260308T100000
END:DAYLIGHT
BEGIN:STANDARD
TZOFFSETFROM:-0700
TZOFFSETTO:-0800
TZNAME:PST
DTSTART:20261101T090000
END:STANDARD
BEGIN:DAYLIGHT
TZOFFSETFROM:-0800
TZOFFSETTO:-0700
TZNAME:PDT
DTSTART:20270314T100000
END:DAYLIGHT
BEGIN:STANDARD
TZOFFSETFROM:-0700
TZOFFSETTO:-0800
TZNAME:PST
DTSTART:20271107T090000
END:STANDARD
END:VTIMEZONE
BEGIN:VEVENT
DTSTART;TZID=America/Los_Angeles:20260304T180000
DTEND;TZID=America/Los_Angeles:20260304T200000
DTSTAMP:20260423T061756
CREATED:20260212T013713Z
LAST-MODIFIED:20260212T013713Z
UID:5165-1772647200-1772654400@stuartgibbs.com
SUMMARY:Talking Animals Books\, Grapevine\, TX -- with Max Brallier and James Ponti!
DESCRIPTION:Join me and my good friends for a very funny evening — and a book signing as well. \nRSVPs are requested!!!
URL:https://stuartgibbs.com/event/talking-animals-books-grapevine-tx-with-max-brallier-and-james-ponti/
LOCATION:Talking Animals Books\, 909 S Main Street\, Grapevine\, TX\, 76051\, United States
END:VEVENT
BEGIN:VEVENT
DTSTART;TZID=America/Los_Angeles:20260307T080000
DTEND;TZID=America/Los_Angeles:20260307T170000
DTSTAMP:20260423T061756
CREATED:20260101T224845Z
LAST-MODIFIED:20260101T224845Z
UID:5139-1772870400-1772902800@stuartgibbs.com
SUMMARY:North Texas Teen Book Festival: Irving\, CA
DESCRIPTION:Join me and 75 other amazing authors for the most fun teen book festival of the year!  Panels\, signings and Middle Grade Madness!
URL:https://stuartgibbs.com/event/north-texas-teen-book-festival-irving-ca/
LOCATION:Irving Convention Center\, 500 West Las Colinas Boulevard\, Irving\, Texas\, 75039\, United States
END:VEVENT
BEGIN:VEVENT
DTSTART;TZID=America/Los_Angeles:20260324T170000
DTEND;TZID=America/Los_Angeles:20260324T180000
DTSTAMP:20260423T061756
CREATED:20260202T183803Z
LAST-MODIFIED:20260202T183812Z
UID:5150-1774371600-1774375200@stuartgibbs.com
SUMMARY:Ape Escape launch event at {pages} Manhattan Beach\, CA
DESCRIPTION:Be the one of the first people on earth to get a signed copy of Ape Escape! Join me for Q&A and a book signing at one of my favorite independent book stores!
URL:https://stuartgibbs.com/event/ape-escape-launch-event-at-pages-manhattan-beach-ca/
LOCATION:{pages} a bookstore\, 904 Manhattan Ave\, Manhattan Beach\, CA\, 90266\, United States
END:VEVENT
BEGIN:VEVENT
DTSTART;TZID=America/Los_Angeles:20260325T183000
DTEND;TZID=America/Los_Angeles:20260325T200000
DTSTAMP:20260423T061756
CREATED:20260202T184054Z
LAST-MODIFIED:20260218T163409Z
UID:5152-1774463400-1774468800@stuartgibbs.com
SUMMARY:Once Upon A Time\, Montrose CA
DESCRIPTION:Join me for Q&A and a signing at one of my favorite independent bookstores!
URL:https://stuartgibbs.com/event/signing-at-once-upon-a-time-montrose-ca/
LOCATION:Once Upon A Time\, 2207 Honolulu Ave\, Montrose\, CA\, 91020\, United States
END:VEVENT
BEGIN:VEVENT
DTSTART;TZID=America/Los_Angeles:20260328T110000
DTEND;TZID=America/Los_Angeles:20260328T130000
DTSTAMP:20260423T061756
CREATED:20260223T211921Z
LAST-MODIFIED:20260223T212007Z
UID:5192-1774695600-1774702800@stuartgibbs.com
SUMMARY:Barnes & Noble Rancho Cucamonga\, CA
DESCRIPTION:Reading and signing — and there’s a Lego event afterwards\, so stick around for that!
URL:https://stuartgibbs.com/event/barnes-noble-rancho-cucamonga/
LOCATION:Barnes & Noble Rancho Cucamonga\, 11090 Foothill Blvd\, Rancho Cucamonga\, CA\, 91730\, United States
END:VEVENT
BEGIN:VEVENT
DTSTART;TZID=America/Los_Angeles:20260329T120000
DTEND;TZID=America/Los_Angeles:20260329T130000
DTSTAMP:20260423T061756
CREATED:20260309T001252Z
LAST-MODIFIED:20260309T001252Z
UID:5207-1774785600-1774789200@stuartgibbs.com
SUMMARY:Culver City Book Festival\, Culver City CA
DESCRIPTION:Join me for a Q&A followed by a signing! \nReservations requested. \nhttps://shop.villagewell.com/events/all-events
URL:https://stuartgibbs.com/event/culver-city-book-festival-culver-city-ca/
LOCATION:Wende Museum\, 10808 Culver Blvd\, Culver City\, CA\, 90230\, United States
END:VEVENT
END:VCALENDAR