BEGIN:VCALENDAR
VERSION:2.0
PRODID:-//Stuart Gibbs - ECPv6.15.20//NONSGML v1.0//EN
CALSCALE:GREGORIAN
METHOD:PUBLISH
X-WR-CALNAME:Stuart Gibbs
X-ORIGINAL-URL:https://stuartgibbs.com
X-WR-CALDESC:Events for Stuart Gibbs
REFRESH-INTERVAL;VALUE=DURATION:PT1H
X-Robots-Tag:noindex
X-PUBLISHED-TTL:PT1H
BEGIN:VTIMEZONE
TZID:America/Los_Angeles
BEGIN:DAYLIGHT
TZOFFSETFROM:-0800
TZOFFSETTO:-0700
TZNAME:PDT
DTSTART:20210314T100000
END:DAYLIGHT
BEGIN:STANDARD
TZOFFSETFROM:-0700
TZOFFSETTO:-0800
TZNAME:PST
DTSTART:20211107T090000
END:STANDARD
BEGIN:DAYLIGHT
TZOFFSETFROM:-0800
TZOFFSETTO:-0700
TZNAME:PDT
DTSTART:20220313T100000
END:DAYLIGHT
BEGIN:STANDARD
TZOFFSETFROM:-0700
TZOFFSETTO:-0800
TZNAME:PST
DTSTART:20221106T090000
END:STANDARD
BEGIN:DAYLIGHT
TZOFFSETFROM:-0800
TZOFFSETTO:-0700
TZNAME:PDT
DTSTART:20230312T100000
END:DAYLIGHT
BEGIN:STANDARD
TZOFFSETFROM:-0700
TZOFFSETTO:-0800
TZNAME:PST
DTSTART:20231105T090000
END:STANDARD
END:VTIMEZONE
BEGIN:VEVENT
DTSTART;TZID=America/Los_Angeles:20220909T180000
DTEND;TZID=America/Los_Angeles:20220909T193000
DTSTAMP:20260425T041719
CREATED:20220731T181611Z
LAST-MODIFIED:20220824T200834Z
UID:4107-1662746400-1662751800@stuartgibbs.com
SUMMARY:Spy School Project X signing\, Barnes & Noble Rancho Cucamonga Sept 9 @ 6pm
DESCRIPTION:I’ll be reading\, signing and answering questions.
URL:https://stuartgibbs.com/event/spy-school-project-x-signing-barnes-noble-rancho-cucamonga/
LOCATION:Barnes & Noble Rancho Cucamonga\, 11090 Foothill Blvd\, Rancho Cucamonga\, CA\, 91730\, United States
END:VEVENT
END:VCALENDAR