BEGIN:VCALENDAR
VERSION:2.0
PRODID:-//Stuart Gibbs - ECPv6.15.20//NONSGML v1.0//EN
CALSCALE:GREGORIAN
METHOD:PUBLISH
X-WR-CALNAME:Stuart Gibbs
X-ORIGINAL-URL:https://stuartgibbs.com
X-WR-CALDESC:Events for Stuart Gibbs
REFRESH-INTERVAL;VALUE=DURATION:PT1H
X-Robots-Tag:noindex
X-PUBLISHED-TTL:PT1H
BEGIN:VTIMEZONE
TZID:America/Los_Angeles
BEGIN:DAYLIGHT
TZOFFSETFROM:-0800
TZOFFSETTO:-0700
TZNAME:PDT
DTSTART:20220313T100000
END:DAYLIGHT
BEGIN:STANDARD
TZOFFSETFROM:-0700
TZOFFSETTO:-0800
TZNAME:PST
DTSTART:20221106T090000
END:STANDARD
BEGIN:DAYLIGHT
TZOFFSETFROM:-0800
TZOFFSETTO:-0700
TZNAME:PDT
DTSTART:20230312T100000
END:DAYLIGHT
BEGIN:STANDARD
TZOFFSETFROM:-0700
TZOFFSETTO:-0800
TZNAME:PST
DTSTART:20231105T090000
END:STANDARD
BEGIN:DAYLIGHT
TZOFFSETFROM:-0800
TZOFFSETTO:-0700
TZNAME:PDT
DTSTART:20240310T100000
END:DAYLIGHT
BEGIN:STANDARD
TZOFFSETFROM:-0700
TZOFFSETTO:-0800
TZNAME:PST
DTSTART:20241103T090000
END:STANDARD
BEGIN:DAYLIGHT
TZOFFSETFROM:-0800
TZOFFSETTO:-0700
TZNAME:PDT
DTSTART:20250309T100000
END:DAYLIGHT
BEGIN:STANDARD
TZOFFSETFROM:-0700
TZOFFSETTO:-0800
TZNAME:PST
DTSTART:20251102T090000
END:STANDARD
END:VTIMEZONE
BEGIN:VTIMEZONE
TZID:America/New_York
BEGIN:DAYLIGHT
TZOFFSETFROM:-0500
TZOFFSETTO:-0400
TZNAME:EDT
DTSTART:20230312T070000
END:DAYLIGHT
BEGIN:STANDARD
TZOFFSETFROM:-0400
TZOFFSETTO:-0500
TZNAME:EST
DTSTART:20231105T060000
END:STANDARD
BEGIN:DAYLIGHT
TZOFFSETFROM:-0500
TZOFFSETTO:-0400
TZNAME:EDT
DTSTART:20240310T070000
END:DAYLIGHT
BEGIN:STANDARD
TZOFFSETFROM:-0400
TZOFFSETTO:-0500
TZNAME:EST
DTSTART:20241103T060000
END:STANDARD
BEGIN:DAYLIGHT
TZOFFSETFROM:-0500
TZOFFSETTO:-0400
TZNAME:EDT
DTSTART:20250309T070000
END:DAYLIGHT
BEGIN:STANDARD
TZOFFSETFROM:-0400
TZOFFSETTO:-0500
TZNAME:EST
DTSTART:20251102T060000
END:STANDARD
END:VTIMEZONE
BEGIN:VTIMEZONE
TZID:America/Chicago
BEGIN:DAYLIGHT
TZOFFSETFROM:-0600
TZOFFSETTO:-0500
TZNAME:CDT
DTSTART:20220313T080000
END:DAYLIGHT
BEGIN:STANDARD
TZOFFSETFROM:-0500
TZOFFSETTO:-0600
TZNAME:CST
DTSTART:20221106T070000
END:STANDARD
BEGIN:DAYLIGHT
TZOFFSETFROM:-0600
TZOFFSETTO:-0500
TZNAME:CDT
DTSTART:20230312T080000
END:DAYLIGHT
BEGIN:STANDARD
TZOFFSETFROM:-0500
TZOFFSETTO:-0600
TZNAME:CST
DTSTART:20231105T070000
END:STANDARD
BEGIN:DAYLIGHT
TZOFFSETFROM:-0600
TZOFFSETTO:-0500
TZNAME:CDT
DTSTART:20240310T080000
END:DAYLIGHT
BEGIN:STANDARD
TZOFFSETFROM:-0500
TZOFFSETTO:-0600
TZNAME:CST
DTSTART:20241103T070000
END:STANDARD
END:VTIMEZONE
BEGIN:VEVENT
DTSTART;TZID=America/Los_Angeles:20241005T130000
DTEND;TZID=America/Los_Angeles:20241005T150000
DTSTAMP:20260423T165316
CREATED:20240731T220133Z
LAST-MODIFIED:20240916T235558Z
UID:4770-1728133200-1728140400@stuartgibbs.com
SUMMARY:Children's Book World signing and Spy School costume party\, West Los Angeles\, CA
DESCRIPTION:Reading and signing.  With a costume party! Prizes for the best costumes!
URL:https://stuartgibbs.com/event/childrens-book-world-west-los-angeles-ca/
LOCATION:Children’s Book World\, LA\, 10580 W Pico Blvd\, Los Angeles\, CA\, 90064\, United States
END:VEVENT
BEGIN:VEVENT
DTSTART;TZID=America/Los_Angeles:20240928T110000
DTEND;TZID=America/Los_Angeles:20240928T130000
DTSTAMP:20260423T165316
CREATED:20240730T211719Z
LAST-MODIFIED:20240730T211719Z
UID:4768-1727521200-1727528400@stuartgibbs.com
SUMMARY:Barnes & Noble\, Rancho Cucamonga\, CA
DESCRIPTION:Reading and signing in the best-named town in America!
URL:https://stuartgibbs.com/event/barnes-noble-rancho-cucamonga-ca/
LOCATION:Barnes & Noble Rancho Cucamonga\, 11090 Foothill Blvd\, Rancho Cucamonga\, CA\, 91730\, United States
END:VEVENT
BEGIN:VEVENT
DTSTART;TZID=America/Los_Angeles:20240925T170000
DTEND;TZID=America/Los_Angeles:20240925T183000
DTSTAMP:20260423T165316
CREATED:20240730T211518Z
LAST-MODIFIED:20240909T221111Z
UID:4765-1727283600-1727289000@stuartgibbs.com
SUMMARY:Cellar Door Bookstore\, Riverside\, CA
DESCRIPTION:Reading and signing.
URL:https://stuartgibbs.com/event/cellar-door-bookstore-riverside-ca/
LOCATION:Cellar Door\, 473 E Alessandro Blvd Suite B\, Riverside\, CA\, 92508\, United States
END:VEVENT
BEGIN:VEVENT
DTSTART;TZID=America/Los_Angeles:20240924T160000
DTEND;TZID=America/Los_Angeles:20240924T180000
DTSTAMP:20260423T165316
CREATED:20240730T210449Z
LAST-MODIFIED:20240913T163538Z
UID:4758-1727193600-1727200800@stuartgibbs.com
SUMMARY:Spy School Goes Wild launch event at {pages} in Manhattan Beach\, CA
DESCRIPTION:Meet me at {pages} for a reading\, Q & A — and your chance to be one of the first people on earth to get a signed copy of both Spy School Goes Wild and the Spy School Entrance Exam!
URL:https://stuartgibbs.com/event/spy-school-goes-wild-launch-event-at-pages-in-manhattan-beach-ca/
LOCATION:{pages} a bookstore\, 904 Manhattan Ave\, Manhattan Beach\, CA\, 90266\, United States
END:VEVENT
BEGIN:VEVENT
DTSTART;TZID=America/Los_Angeles:20240914T110000
DTEND;TZID=America/Los_Angeles:20240914T130000
DTSTAMP:20260423T165316
CREATED:20240730T210725Z
LAST-MODIFIED:20240730T210851Z
UID:4761-1726311600-1726318800@stuartgibbs.com
SUMMARY:Conversation with James Ponti at {pages} in Manhattan Beach\, CA
DESCRIPTION:Join me and my dear friend\, James Ponti\, the genius behind City Spies and Framed! to celebrate the release of his newest series\, Sherlock Society. (Although you can get my books as well.)
URL:https://stuartgibbs.com/event/conversation-with-james-ponti-at-pages-in-manhattan-beach-ca/
LOCATION:{pages} a bookstore\, 904 Manhattan Ave\, Manhattan Beach\, CA\, 90266\, United States
END:VEVENT
BEGIN:VEVENT
DTSTART;TZID=America/Los_Angeles:20240913T190000
DTEND;TZID=America/Los_Angeles:20240913T210000
DTSTAMP:20260423T165316
CREATED:20240730T211229Z
LAST-MODIFIED:20240830T165040Z
UID:4763-1726254000-1726261200@stuartgibbs.com
SUMMARY:Amazing six author event with Once Upon A Time in Glendale\, CA!
DESCRIPTION:Join me and my good friends max Brallier (Last Kids on Earth)\, Sarah Mlynowski (Whatever After; Best Wishes)\, Julie Buxbaum (The Area 51 Files) and James Ponti (City Spies) as we celebrate the launch of James’s newest series\, The Sherlock Society.
URL:https://stuartgibbs.com/event/amazing-six-author-event-with-once-upon-a-time-in-montrose-ca/
LOCATION:Sparr Heights Community Center\, 1613 Glencoe Way\, Glendale\, 91208\, United States
END:VEVENT
BEGIN:VEVENT
DTSTART;VALUE=DATE:20240504
DTEND;VALUE=DATE:20240505
DTSTAMP:20260423T165316
CREATED:20240316T181025Z
LAST-MODIFIED:20240430T160159Z
UID:4657-1714780800-1714867199@stuartgibbs.com
SUMMARY:Yallwest\, Santa Monica CA
DESCRIPTION:The most fun festival solely for young readers celebrates its tenth year! \nI’ll be doing multiple fun events throughout the day with lots of your favorite authors! \nSigning at 11am. \n  \nFamily Feud at 1pm. \n  \nPanel at 2pm.
URL:https://stuartgibbs.com/event/yallwest/
LOCATION:Santa Monica High School\, 601 Pico Blvd\, Santa Monica\, CA\, 90405\, United States
END:VEVENT
BEGIN:VEVENT
DTSTART;TZID=America/Los_Angeles:20240427T080000
DTEND;TZID=America/Los_Angeles:20240427T170000
DTSTAMP:20260423T165316
CREATED:20240206T020245Z
LAST-MODIFIED:20240206T020245Z
UID:4625-1714204800-1714237200@stuartgibbs.com
SUMMARY:North Texas Teen Book Festival
DESCRIPTION:It’s the tenth anniversary of this awesome festival… and oh my gosh\, you are going to be amazed by how many of your favorite authors will be there. \nWe will be doing incredible panel discussions and fan favorites like Middle Grade Madness and Family Feud\, with signings as well. \nAnd as usual… it’s free! \n 
URL:https://stuartgibbs.com/event/north-texas-teen-book-festival-2/
LOCATION:Irving Convention Cnter\, 500 W Las Colinas\, Irving\, TX\, 75039\, United States
END:VEVENT
BEGIN:VEVENT
DTSTART;TZID=America/Los_Angeles:20240423T190000
DTEND;TZID=America/Los_Angeles:20240423T210000
DTSTAMP:20260423T165316
CREATED:20240316T181359Z
LAST-MODIFIED:20240316T181359Z
UID:4659-1713898800-1713906000@stuartgibbs.com
SUMMARY:Charlie Thorne and the Royal Society Launch Party and Trivia Night at Once Upon A Time Bookstore\, Montrose CA
DESCRIPTION:I’m returning to one of my favorite stores for the launch of Charlie Thorne and the Royal Society — but this time\, we’ve added some extra fun. Match wits against your fellow fans with Gibbs trivia! Signing to follow.
URL:https://stuartgibbs.com/event/charlie-thorne-and-the-royal-society-launch-party-and-trivia-night-at-once-upon-a-time-bookstore-montrose-ca/
LOCATION:Once Upon A Time\, 2207 Honolulu Ave\, Montrose\, CA\, 91020\, United States
END:VEVENT
BEGIN:VEVENT
DTSTART;TZID=America/Los_Angeles:20240421T140000
DTEND;TZID=America/Los_Angeles:20240421T150000
DTSTAMP:20260423T165316
CREATED:20240316T180807Z
LAST-MODIFIED:20240316T180807Z
UID:4653-1713708000-1713711600@stuartgibbs.com
SUMMARY:Los Angeles Times Festival of Books
DESCRIPTION:I’m going to be on a panel with amazing fellow authors Dan Santat\, Lisa Yee and Melissa de la Cruz! Signing to follow! \nThe event is free\, but tickets are required. \n2025 Schedule » Festival of Books 2025 » L.A. Times
URL:https://stuartgibbs.com/event/los-angeles-times-festival-of-books/
LOCATION:Taper Hall 101\, University of Southern California\, 3501 Trousdale Parkway\, Los Angeles\, CA\, 90089\, United States
END:VEVENT
BEGIN:VEVENT
DTSTART;TZID=America/Los_Angeles:20240416T190000
DTEND;TZID=America/Los_Angeles:20240416T203000
DTSTAMP:20260423T165316
CREATED:20240319T231523Z
LAST-MODIFIED:20240319T231523Z
UID:4663-1713294000-1713299400@stuartgibbs.com
SUMMARY:Presentation and signing\, Chantilly VA Library
DESCRIPTION:I’ll be speaking\, taking questions and signing at the Chantilly Library\, which in in Fairfax county\, VA not too far from Washington\, DC. Books will be available for sale.
URL:https://stuartgibbs.com/event/presentation-and-signing-chantilly-va-library/
LOCATION:Chantilly Library\, 4000 Stringfellow Rd\, Chantilly\, VA\, 20151\, United States
END:VEVENT
BEGIN:VEVENT
DTSTART;TZID=America/New_York:20240308T180000
DTEND;TZID=America/New_York:20240308T193000
DTSTAMP:20260423T165316
CREATED:20231130T022320Z
LAST-MODIFIED:20240109T210546Z
UID:4590-1709920800-1709926200@stuartgibbs.com
SUMMARY:READ Book Nook - Arlington\, VA
DESCRIPTION:Join me to celebrate the launch of Evil Spy School the Graphic Novel! I’ll be discussing my work and answering some questions\, followed by a book signing. \nFree! Please note to join the book signing line\, a purchase of the book is required. \nSee the event link for more details!
URL:https://stuartgibbs.com/event/read-book-nook-arlington-va/
LOCATION:READ Book Nook\, 4238 Wilson Blvd\, Arlington\, VA\, 22203\, United States
END:VEVENT
BEGIN:VEVENT
DTSTART;TZID=America/New_York:20240307T190000
DTEND;TZID=America/New_York:20240307T200000
DTSTAMP:20260423T165316
CREATED:20231130T022117Z
LAST-MODIFIED:20231220T171101Z
UID:4587-1709838000-1709841600@stuartgibbs.com
SUMMARY:East City Bookshop - Washington\, DC
DESCRIPTION:Join me to celebrate the launch of Evil Spy School the Graphic Novel! I’ll be discussing my work and answering some questions\, followed by a book signing. \nFree! Please note to join the book signing line\, a purchase of the book is required. \nTo register\, click on the link below: \n  \nhttps://www.eventbrite.com/e/hybrid-event-stuart-gibbs-evil-spy-school-the-graphic-novel-tickets-777860600997?aff=authorlink
URL:https://stuartgibbs.com/event/east-city-bookshop-washington-dc/
LOCATION:East City Bookshop\, 645 Pennsylvania Ave SE #100\, Washington\, DC\, 20003\, United States
END:VEVENT
BEGIN:VEVENT
DTSTART;TZID=America/New_York:20240306T173000
DTEND;TZID=America/New_York:20240306T190000
DTSTAMP:20260423T165316
CREATED:20231130T021819Z
LAST-MODIFIED:20231213T183123Z
UID:4584-1709746200-1709751600@stuartgibbs.com
SUMMARY:People's Book - Takoma Park\, MD
DESCRIPTION:Join me to celebrate the launch of Evil Spy School the Graphic Novel! I’ll be discussing my work and answering some questions\, followed by a book signing. \nFree! Please note to join the book signing line\, a purchase of the book is required. \nSee the event link for more details!
URL:https://stuartgibbs.com/event/peoples-book-takoma-park-md/
LOCATION:People’s Book\, 7014 Suite A Westmoreland Ave\, Takoma Park\, MD\, 20912\, United States
END:VEVENT
BEGIN:VEVENT
DTSTART;TZID=America/New_York:20240305T180000
DTEND;TZID=America/New_York:20240305T190000
DTSTAMP:20260423T165316
CREATED:20231130T021520Z
LAST-MODIFIED:20231213T183224Z
UID:4581-1709661600-1709665200@stuartgibbs.com
SUMMARY:Barnes & Noble - Fairfax\, VA
DESCRIPTION:Join me to celebrate the launch of Evil Spy School the Graphic Novel! I’ll be discussing my work and answering some questions\, followed by a book signing. \nFree! Please note to join the book signing line\, a purchase of the book is required. \nSee the event link for more details!
URL:https://stuartgibbs.com/event/barnes-noble-fairfax-va/
LOCATION:Barnes & Noble Fairfax\, VA\, 12193 Fair Lakes Promenade Dr\, Fairfax\, VA\, 22033\, United States
END:VEVENT
BEGIN:VEVENT
DTSTART;TZID=America/Los_Angeles:20240210T140000
DTEND;TZID=America/Los_Angeles:20240210T160000
DTSTAMP:20260423T165316
CREATED:20231204T205116Z
LAST-MODIFIED:20231204T205116Z
UID:4599-1707573600-1707580800@stuartgibbs.com
SUMMARY:Conversation with James Ponti @ Bush Auditorium\, Winter Park\, FL
DESCRIPTION:I’ll be talking to one of my dearest (and funniest) friends\, James Ponti\, to celebrate the release of City Spies 5: Mission Manhattan. Signing to follow. \nThe event is free\, but RSVPs are encouraged. \nhttps://www.writersblockbookstore.com/event/person-event-james-ponti-conversation-stuart-gibbs
URL:https://stuartgibbs.com/event/conversation-with-james-ponti-bush-auditorium-winter-park-fl/
LOCATION:Rollins College Bush Auditorium\, 1000 Holt Ave\, Winter Park\, FL\, 32789\, United States
END:VEVENT
BEGIN:VEVENT
DTSTART;TZID=America/Los_Angeles:20240209T150000
DTEND;TZID=America/Los_Angeles:20240209T180000
DTSTAMP:20260423T165316
CREATED:20240104T001638Z
LAST-MODIFIED:20240104T001638Z
UID:4614-1707490800-1707501600@stuartgibbs.com
SUMMARY:Trinity Prep Author Fest\, Winter Park FL
DESCRIPTION:Join me and many other amazing authors for panels and signings!
URL:https://stuartgibbs.com/event/trinity-prep-author-fest-winter-park-fl/
LOCATION:Trinity Prep School of Florida
END:VEVENT
BEGIN:VEVENT
DTSTART;TZID=America/Los_Angeles:20231203T130000
DTEND;TZID=America/Los_Angeles:20231203T140000
DTSTAMP:20260423T165316
CREATED:20231128T223744Z
LAST-MODIFIED:20231128T223744Z
UID:4578-1701608400-1701612000@stuartgibbs.com
SUMMARY:Virtual event with Sarah Mlynowski and Christina Soontornvat
DESCRIPTION:Join me and my dear friends Sarah Mlynowski and Christina Soontornvat (who have just cowritten the third book in the Best Wishes series\, Time After Time) as well as writer Matt Phelan\, as we discuss our new books. \nYou’ll need to register with Crowdcast to see it though: \nhttps://booksofwonder.com/blogs/upcoming/great-chapter-book-reads-2
URL:https://stuartgibbs.com/event/virtual-event-with-sarah-mlynowski-and-christina-soontornvat/
LOCATION:Virtual
END:VEVENT
BEGIN:VEVENT
DTSTART;TZID=America/Los_Angeles:20231202T123000
DTEND;TZID=America/Los_Angeles:20231202T140000
DTSTAMP:20260423T165316
CREATED:20230830T181335Z
LAST-MODIFIED:20230830T181335Z
UID:4489-1701520200-1701525600@stuartgibbs.com
SUMMARY:Children's Book World\, Los Angeles
DESCRIPTION:Join me for a reading and signing!
URL:https://stuartgibbs.com/event/childrens-book-world-los-angeles-2/
LOCATION:Children’s Book World\, LA\, 10580 W Pico Blvd\, Los Angeles\, CA\, 90064\, United States
END:VEVENT
BEGIN:VEVENT
DTSTART;TZID=America/Los_Angeles:20231118T140000
DTEND;TZID=America/Los_Angeles:20231118T160000
DTSTAMP:20260423T165316
CREATED:20230830T181240Z
LAST-MODIFIED:20231103T141816Z
UID:4486-1700316000-1700323200@stuartgibbs.com
SUMMARY:Santa Monica Pico Branch Library\, Santa Monica CA
DESCRIPTION:Join me for a presentation and signing. \nPlease note that I original said this event would be at the main branch of the library. It will be at the Pico Branch instead.
URL:https://stuartgibbs.com/event/santa-monica-main-library-santa-monica-ca/
LOCATION:Santa Monica Pico Branch Library\, 2201 Santa Monica Blvd.\, Santa Monica\, 90405\, United States
END:VEVENT
BEGIN:VEVENT
DTSTART;TZID=America/Los_Angeles:20231115T190000
DTEND;TZID=America/Los_Angeles:20231115T210000
DTSTAMP:20260423T165316
CREATED:20231011T030822Z
LAST-MODIFIED:20231011T030857Z
UID:4523-1700074800-1700082000@stuartgibbs.com
SUMMARY:Middle Grade Mayhem\, Orlando FL
DESCRIPTION:Join twelve of your favorite middle grade authors for a night full of fun!
URL:https://stuartgibbs.com/event/middle-grade-mayhem/
LOCATION:Lake Buena Vista High School Auditorium\, Orlando\, FL\, United States
END:VEVENT
BEGIN:VEVENT
DTSTART;VALUE=DATE:20231110
DTEND;VALUE=DATE:20231112
DTSTAMP:20260423T165316
CREATED:20230830T181044Z
LAST-MODIFIED:20230830T181044Z
UID:4484-1699574400-1699747199@stuartgibbs.com
SUMMARY:Yallfest\, Charleston South Carolina
DESCRIPTION:Join me and dozens of amazing authors for all sorts of fun panels and signings in one of the most beautiful cities in the world!
URL:https://stuartgibbs.com/event/yallfest-charleston-south-carolina/
LOCATION:Charleston\, SC
END:VEVENT
BEGIN:VEVENT
DTSTART;TZID=America/Los_Angeles:20231106T160000
DTEND;TZID=America/Los_Angeles:20231106T170000
DTSTAMP:20260423T165316
CREATED:20231102T214810Z
LAST-MODIFIED:20231102T214810Z
UID:4550-1699286400-1699290000@stuartgibbs.com
SUMMARY:Virtual conversation with Shannon Messenger
DESCRIPTION:Join me as I help Shannon launch the graphic novel for Keeper of the Lost Cities! \n7pm east coast / 4pm west coast \nYou must register here though: \n  \nhttps://www.eventbrite.com/e/bn-virtual-shannon-messenger-for-keeper-of-the-lost-cities-graphic-novel-tickets-716138328017?aff=oddtdtcreator
URL:https://stuartgibbs.com/event/virtual-conversation-with-shannon-messenger/
LOCATION:Virtual
END:VEVENT
BEGIN:VEVENT
DTSTART;TZID=America/Los_Angeles:20231024T190000
DTEND;TZID=America/Los_Angeles:20231024T203000
DTSTAMP:20260423T165316
CREATED:20231003T034600Z
LAST-MODIFIED:20231003T040521Z
UID:4514-1698174000-1698179400@stuartgibbs.com
SUMMARY:Kidsbooks at St; John's School\, Vancouver\, Canada
DESCRIPTION:My second night in Vancouver! Reading and signing. \n$30 per individual or $40 per family. Price includes a copy of Spy School Goes North.
URL:https://stuartgibbs.com/event/kidsbooks-at-st-johns-school-vancouver-canada/
LOCATION:St. John’s School\, 2215 W 10th Avenue\, Vancouver\, BC\, V6K2J1\, Canada
END:VEVENT
BEGIN:VEVENT
DTSTART;TZID=America/Los_Angeles:20231023T190000
DTEND;TZID=America/Los_Angeles:20231023T203000
DTSTAMP:20260423T165316
CREATED:20231003T034206Z
LAST-MODIFIED:20231003T040535Z
UID:4509-1698087600-1698093000@stuartgibbs.com
SUMMARY:Kidsbooks at Gloria Dei Church\, Vancouver\, Canada
DESCRIPTION:Join me for the first of two nights in Vancouver\, BC! Reading and signing. \n  \n$30 per individual or $40 per family. Price includes a copy of Spy School Goes North.
URL:https://stuartgibbs.com/event/kidsbooks-at-gloria-dei-church-vancouver-canada/
LOCATION:Gloria Dei Lutheran Church\, 1110 Gladwin Drive\, Vancouver\, BC\, V7H1A2\, Canada
END:VEVENT
BEGIN:VEVENT
DTSTART;TZID=America/Los_Angeles:20231018T100000
DTEND;TZID=America/Los_Angeles:20231018T120000
DTSTAMP:20260423T165316
CREATED:20231005T020621Z
LAST-MODIFIED:20231005T020621Z
UID:4519-1697623200-1697630400@stuartgibbs.com
SUMMARY:Grand opening ceremony\, Barnes & Noble Marina Del Rey\, CA
DESCRIPTION:I will be cutting the ribbon to open the brand new Barnes & Noble in Marina Del Rey\, CA!  Signing to follow.
URL:https://stuartgibbs.com/event/grand-opening-ceremony-barnes-noble-marina-del-rey-ca/
LOCATION:Barnes & Noble Marina Del Rey\, 4752 Admiralty Wat\, Marina Del Rey\, CA\, 90292\, United States
END:VEVENT
BEGIN:VEVENT
DTSTART;TZID=America/Los_Angeles:20231009T190000
DTEND;TZID=America/Los_Angeles:20231009T200000
DTSTAMP:20260423T165316
CREATED:20230829T215050Z
LAST-MODIFIED:20230830T180807Z
UID:4470-1696878000-1696881600@stuartgibbs.com
SUMMARY:Once Upon a Time - Montrose\, CA
DESCRIPTION:Join me at the Once Upon a Time Bookstore where I’ll be discussing my new book Spy School Goes North. \nFree!
URL:https://stuartgibbs.com/event/event-at-once-upon-a-time-montrose-ca/
LOCATION:Once Upon A Time\, 2207 Honolulu Ave\, Montrose\, CA\, 91020\, United States
END:VEVENT
BEGIN:VEVENT
DTSTART;TZID=America/Chicago:20231007T103000
DTEND;TZID=America/Chicago:20231007T113000
DTSTAMP:20260423T165316
CREATED:20230829T215046Z
LAST-MODIFIED:20230830T181511Z
UID:4467-1696674600-1696678200@stuartgibbs.com
SUMMARY:Boerne Book Festival - Boerne\, TX
DESCRIPTION:Join me at the Patrick Heath Public Library for the Boerne Book Festival! I’ll be discussing my new book Spy School Goes North. \nFree!
URL:https://stuartgibbs.com/event/event-at-boerne-book-festival-boerne-tx/
LOCATION:Patrick Heath Public Library\, 451 N Main St\, Boerne\, CA\, 78006\, United States
END:VEVENT
BEGIN:VEVENT
DTSTART;TZID=America/Chicago:20231006T180000
DTEND;TZID=America/Chicago:20231006T190000
DTSTAMP:20260423T165316
CREATED:20230829T215043Z
LAST-MODIFIED:20230830T180817Z
UID:4464-1696615200-1696618800@stuartgibbs.com
SUMMARY:Nowhere Bookshop - San Antonio\, TX
DESCRIPTION:Join me at the Nowhere Bookshop for my Spy School Goes North book tour! I’ll be discussing the book as well signing copies. \nFree!
URL:https://stuartgibbs.com/event/event-at-nowhere-bookshop-san-antonio-tx/
LOCATION:Nowhere Bookshop\, 5154 Broadway\, San Antonio\, TX\, 78209\, United States
END:VEVENT
BEGIN:VEVENT
DTSTART;TZID=America/Chicago:20231005T183000
DTEND;TZID=America/Chicago:20231005T193000
DTSTAMP:20260423T165316
CREATED:20230829T215039Z
LAST-MODIFIED:20230830T181524Z
UID:4459-1696530600-1696534200@stuartgibbs.com
SUMMARY:Barnes & Noble Arboretum - Austin\, TX
DESCRIPTION:Join me at the Barnes & Noble Arboretum for my Spy School Goes North book tour! I’ll be discussing the book as well signing copies. \nFree!
URL:https://stuartgibbs.com/event/event-at-barnes-noble-arboretum-austin-tx/
LOCATION:Barnes & Noble Arboretum\, 10000 Research Blvd #158\, Austin\, TX\, 78759\, United States
END:VEVENT
END:VCALENDAR