BEGIN:VCALENDAR
VERSION:2.0
PRODID:-//Stuart Gibbs - ECPv6.15.20//NONSGML v1.0//EN
CALSCALE:GREGORIAN
METHOD:PUBLISH
X-ORIGINAL-URL:https://stuartgibbs.com
X-WR-CALDESC:Events for Stuart Gibbs
REFRESH-INTERVAL;VALUE=DURATION:PT1H
X-Robots-Tag:noindex
X-PUBLISHED-TTL:PT1H
BEGIN:VTIMEZONE
TZID:America/Los_Angeles
BEGIN:DAYLIGHT
TZOFFSETFROM:-0800
TZOFFSETTO:-0700
TZNAME:PDT
DTSTART:20250309T100000
END:DAYLIGHT
BEGIN:STANDARD
TZOFFSETFROM:-0700
TZOFFSETTO:-0800
TZNAME:PST
DTSTART:20251102T090000
END:STANDARD
BEGIN:DAYLIGHT
TZOFFSETFROM:-0800
TZOFFSETTO:-0700
TZNAME:PDT
DTSTART:20260308T100000
END:DAYLIGHT
BEGIN:STANDARD
TZOFFSETFROM:-0700
TZOFFSETTO:-0800
TZNAME:PST
DTSTART:20261101T090000
END:STANDARD
BEGIN:DAYLIGHT
TZOFFSETFROM:-0800
TZOFFSETTO:-0700
TZNAME:PDT
DTSTART:20270314T100000
END:DAYLIGHT
BEGIN:STANDARD
TZOFFSETFROM:-0700
TZOFFSETTO:-0800
TZNAME:PST
DTSTART:20271107T090000
END:STANDARD
END:VTIMEZONE
BEGIN:VEVENT
DTSTART;TZID=America/Los_Angeles:20260428T173000
DTEND;TZID=America/Los_Angeles:20260428T183000
DTSTAMP:20260423T163149
CREATED:20260416T220158Z
LAST-MODIFIED:20260420T161824Z
UID:5248-1777397400-1777401000@stuartgibbs.com
SUMMARY:Spy School Secret Service the Graphic Novel launch event @ Arvida Book Company\, Tustin CA
DESCRIPTION:Join me for a Q & A\, after which you’ll get to be one of the first people on earth with a signed copy of the book! \nhttps://withfriends.co/event/27992197/book_launch_stuart_gibbs_spy_school_secret_service_the_graphic_novel
URL:https://stuartgibbs.com/event/spy-school-secret-service-the-graphic-novel-launch-event-arvida-book-company-tustin-ca/
LOCATION:Arvida Book Company\, 115 Main Street\, Tustin\, CA\, 97280\, United States
END:VEVENT
BEGIN:VEVENT
DTSTART;TZID=America/Los_Angeles:20260503T123000
DTEND;TZID=America/Los_Angeles:20260503T133000
DTSTAMP:20260423T163149
CREATED:20260413T033645Z
LAST-MODIFIED:20260413T033645Z
UID:5241-1777811400-1777815000@stuartgibbs.com
SUMMARY:Santa Barbara Literary Festival\, Santa Barbara\, CA
DESCRIPTION:Come to the first ever Santa Barbara Literary Festival! \nI’ll be on a panel with my good friends\, Sarah Mlynowski\, Julie Buxbaum and Morgan Matson\, followed by a signing! \nReserve tickets ahead of time: \nhttps://www.eventbrite.com/e/middle-grade-author-panel-santa-barbara-literary-festival-tickets-1979679542804?aff=erellivmlt \n 
URL:https://stuartgibbs.com/event/santa-barbara-literary-festival-santa-barbara-ca/
LOCATION:Hilton Santa Barbara Beachfront Resort\, 633 E Cabrillo Avenue\, Santa Barbara\, CA\, 93101\, United States
END:VEVENT
END:VCALENDAR