BEGIN:VCALENDAR
VERSION:2.0
PRODID:-//Stuart Gibbs - ECPv6.15.20//NONSGML v1.0//EN
CALSCALE:GREGORIAN
METHOD:PUBLISH
X-WR-CALNAME:Stuart Gibbs
X-ORIGINAL-URL:https://stuartgibbs.com
X-WR-CALDESC:Events for Stuart Gibbs
REFRESH-INTERVAL;VALUE=DURATION:PT1H
X-Robots-Tag:noindex
X-PUBLISHED-TTL:PT1H
BEGIN:VTIMEZONE
TZID:America/Los_Angeles
BEGIN:DAYLIGHT
TZOFFSETFROM:-0800
TZOFFSETTO:-0700
TZNAME:PDT
DTSTART:20250309T100000
END:DAYLIGHT
BEGIN:STANDARD
TZOFFSETFROM:-0700
TZOFFSETTO:-0800
TZNAME:PST
DTSTART:20251102T090000
END:STANDARD
BEGIN:DAYLIGHT
TZOFFSETFROM:-0800
TZOFFSETTO:-0700
TZNAME:PDT
DTSTART:20260308T100000
END:DAYLIGHT
BEGIN:STANDARD
TZOFFSETFROM:-0700
TZOFFSETTO:-0800
TZNAME:PST
DTSTART:20261101T090000
END:STANDARD
BEGIN:DAYLIGHT
TZOFFSETFROM:-0800
TZOFFSETTO:-0700
TZNAME:PDT
DTSTART:20270314T100000
END:DAYLIGHT
BEGIN:STANDARD
TZOFFSETFROM:-0700
TZOFFSETTO:-0800
TZNAME:PST
DTSTART:20271107T090000
END:STANDARD
END:VTIMEZONE
BEGIN:VEVENT
DTSTART;TZID=America/Los_Angeles:20260329T120000
DTEND;TZID=America/Los_Angeles:20260329T130000
DTSTAMP:20260423T061725
CREATED:20260309T001252Z
LAST-MODIFIED:20260309T001252Z
UID:5207-1774785600-1774789200@stuartgibbs.com
SUMMARY:Culver City Book Festival\, Culver City CA
DESCRIPTION:Join me for a Q&A followed by a signing! \nReservations requested. \nhttps://shop.villagewell.com/events/all-events
URL:https://stuartgibbs.com/event/culver-city-book-festival-culver-city-ca/
LOCATION:Wende Museum\, 10808 Culver Blvd\, Culver City\, CA\, 90230\, United States
END:VEVENT
END:VCALENDAR