BEGIN:VCALENDAR
VERSION:2.0
PRODID:-//Stuart Gibbs - ECPv6.15.20//NONSGML v1.0//EN
CALSCALE:GREGORIAN
METHOD:PUBLISH
X-WR-CALNAME:Stuart Gibbs
X-ORIGINAL-URL:https://stuartgibbs.com
X-WR-CALDESC:Events for Stuart Gibbs
REFRESH-INTERVAL;VALUE=DURATION:PT1H
X-Robots-Tag:noindex
X-PUBLISHED-TTL:PT1H
BEGIN:VTIMEZONE
TZID:America/Los_Angeles
BEGIN:DAYLIGHT
TZOFFSETFROM:-0800
TZOFFSETTO:-0700
TZNAME:PDT
DTSTART:20240310T100000
END:DAYLIGHT
BEGIN:STANDARD
TZOFFSETFROM:-0700
TZOFFSETTO:-0800
TZNAME:PST
DTSTART:20241103T090000
END:STANDARD
BEGIN:DAYLIGHT
TZOFFSETFROM:-0800
TZOFFSETTO:-0700
TZNAME:PDT
DTSTART:20250309T100000
END:DAYLIGHT
BEGIN:STANDARD
TZOFFSETFROM:-0700
TZOFFSETTO:-0800
TZNAME:PST
DTSTART:20251102T090000
END:STANDARD
BEGIN:DAYLIGHT
TZOFFSETFROM:-0800
TZOFFSETTO:-0700
TZNAME:PDT
DTSTART:20260308T100000
END:DAYLIGHT
BEGIN:STANDARD
TZOFFSETFROM:-0700
TZOFFSETTO:-0800
TZNAME:PST
DTSTART:20261101T090000
END:STANDARD
END:VTIMEZONE
BEGIN:VEVENT
DTSTART;TZID=America/Los_Angeles:20251028T183000
DTEND;TZID=America/Los_Angeles:20251028T200000
DTSTAMP:20260423T133113
CREATED:20250917T183507Z
LAST-MODIFIED:20250917T183507Z
UID:5059-1761676200-1761681600@stuartgibbs.com
SUMMARY:All star author panel\, Barnes & Noble Colonial Plaza\, Orlando\, FL
DESCRIPTION:Check out this line-up: James Ponti\, Sarah Mlynowski\, Karina Yan Glaser\, Jen Calonita\, Aly Gerber\, E Lockhart and Christina Diaz Gonzalez! It’s going to be amazing! Signing to follow. \n  \nReservations required. See site for details. \n  \nhttps://stores.barnesandnoble.com/event/9780062193597-0
URL:https://stuartgibbs.com/event/all-star-author-panel-barnes-noble-colonial-plaza-orlando-fl/
LOCATION:Barnes & Noble Colonial Plaza Orlando\, 2418 E Colonial Drive\, Orlando\, FL\, 32803\, United States
END:VEVENT
END:VCALENDAR