BEGIN:VCALENDAR
VERSION:2.0
PRODID:-//Stuart Gibbs - ECPv6.15.20//NONSGML v1.0//EN
CALSCALE:GREGORIAN
METHOD:PUBLISH
X-ORIGINAL-URL:https://stuartgibbs.com
X-WR-CALDESC:Events for Stuart Gibbs
REFRESH-INTERVAL;VALUE=DURATION:PT1H
X-Robots-Tag:noindex
X-PUBLISHED-TTL:PT1H
BEGIN:VTIMEZONE
TZID:America/Los_Angeles
BEGIN:DAYLIGHT
TZOFFSETFROM:-0800
TZOFFSETTO:-0700
TZNAME:PDT
DTSTART:20240310T100000
END:DAYLIGHT
BEGIN:STANDARD
TZOFFSETFROM:-0700
TZOFFSETTO:-0800
TZNAME:PST
DTSTART:20241103T090000
END:STANDARD
BEGIN:DAYLIGHT
TZOFFSETFROM:-0800
TZOFFSETTO:-0700
TZNAME:PDT
DTSTART:20250309T100000
END:DAYLIGHT
BEGIN:STANDARD
TZOFFSETFROM:-0700
TZOFFSETTO:-0800
TZNAME:PST
DTSTART:20251102T090000
END:STANDARD
BEGIN:DAYLIGHT
TZOFFSETFROM:-0800
TZOFFSETTO:-0700
TZNAME:PDT
DTSTART:20260308T100000
END:DAYLIGHT
BEGIN:STANDARD
TZOFFSETFROM:-0700
TZOFFSETTO:-0800
TZNAME:PST
DTSTART:20261101T090000
END:STANDARD
END:VTIMEZONE
BEGIN:VEVENT
DTSTART;TZID=America/Los_Angeles:20251017T190000
DTEND;TZID=America/Los_Angeles:20251017T210000
DTSTAMP:20260424T051827
CREATED:20250917T195645Z
LAST-MODIFIED:20251007T052428Z
UID:5056-1760727600-1760734800@stuartgibbs.com
SUMMARY:Evening with James Ponti\, St Peters\, MO
DESCRIPTION:Join me and my dear friend James Ponti as we do a Q&A and then sign our new books: Hurricane Heist and Spy School Blackout. \nRegistration is required — although it’s free.  Please check the Novel Neighbor website for event details.
URL:https://stuartgibbs.com/event/event-with-james-ponti-st-charles-mo/
LOCATION:St Charles City-County Library Spencer Road Branch\, 427 Spencer Road\, St Peters\, MO\, 63376\, United States
END:VEVENT
END:VCALENDAR