BEGIN:VCALENDAR
VERSION:2.0
PRODID:-//Stuart Gibbs - ECPv6.15.20//NONSGML v1.0//EN
CALSCALE:GREGORIAN
METHOD:PUBLISH
X-ORIGINAL-URL:https://stuartgibbs.com
X-WR-CALDESC:Events for Stuart Gibbs
REFRESH-INTERVAL;VALUE=DURATION:PT1H
X-Robots-Tag:noindex
X-PUBLISHED-TTL:PT1H
BEGIN:VTIMEZONE
TZID:America/Los_Angeles
BEGIN:DAYLIGHT
TZOFFSETFROM:-0800
TZOFFSETTO:-0700
TZNAME:PDT
DTSTART:20240310T100000
END:DAYLIGHT
BEGIN:STANDARD
TZOFFSETFROM:-0700
TZOFFSETTO:-0800
TZNAME:PST
DTSTART:20241103T090000
END:STANDARD
BEGIN:DAYLIGHT
TZOFFSETFROM:-0800
TZOFFSETTO:-0700
TZNAME:PDT
DTSTART:20250309T100000
END:DAYLIGHT
BEGIN:STANDARD
TZOFFSETFROM:-0700
TZOFFSETTO:-0800
TZNAME:PST
DTSTART:20251102T090000
END:STANDARD
BEGIN:DAYLIGHT
TZOFFSETFROM:-0800
TZOFFSETTO:-0700
TZNAME:PDT
DTSTART:20260308T100000
END:DAYLIGHT
BEGIN:STANDARD
TZOFFSETFROM:-0700
TZOFFSETTO:-0800
TZNAME:PST
DTSTART:20261101T090000
END:STANDARD
END:VTIMEZONE
BEGIN:VEVENT
DTSTART;TZID=America/Los_Angeles:20251012T110000
DTEND;TZID=America/Los_Angeles:20251012T113000
DTSTAMP:20260424T132807
CREATED:20251004T002357Z
LAST-MODIFIED:20251004T002357Z
UID:5084-1760266800-1760268600@stuartgibbs.com
SUMMARY:Reading at the Hammer Museum\, Los Angeles CA
DESCRIPTION:I’ll be part of the amazing festivities at the Hammer Museum’s KAMP fundraiser. (Kids Art Museum Project). \nMy reading is at 11am\, although I hear there will be some celebrities dropping by to read some books as well. \nThere is no official signing afterwards\, but if you bring a book\, I can sign it for you.
URL:https://stuartgibbs.com/event/reading-at-the-hammer-museum-los-angeles-ca/
LOCATION:Hammer Museum\, 10899 Wilshire Blvd\, Los Angeles\, CA\, 90024\, United States
END:VEVENT
END:VCALENDAR