BEGIN:VCALENDAR
VERSION:2.0
PRODID:-//Stuart Gibbs - ECPv6.15.20//NONSGML v1.0//EN
CALSCALE:GREGORIAN
METHOD:PUBLISH
X-ORIGINAL-URL:https://stuartgibbs.com
X-WR-CALDESC:Events for Stuart Gibbs
REFRESH-INTERVAL;VALUE=DURATION:PT1H
X-Robots-Tag:noindex
X-PUBLISHED-TTL:PT1H
BEGIN:VTIMEZONE
TZID:America/Los_Angeles
BEGIN:DAYLIGHT
TZOFFSETFROM:-0800
TZOFFSETTO:-0700
TZNAME:PDT
DTSTART:20240310T100000
END:DAYLIGHT
BEGIN:STANDARD
TZOFFSETFROM:-0700
TZOFFSETTO:-0800
TZNAME:PST
DTSTART:20241103T090000
END:STANDARD
BEGIN:DAYLIGHT
TZOFFSETFROM:-0800
TZOFFSETTO:-0700
TZNAME:PDT
DTSTART:20250309T100000
END:DAYLIGHT
BEGIN:STANDARD
TZOFFSETFROM:-0700
TZOFFSETTO:-0800
TZNAME:PST
DTSTART:20251102T090000
END:STANDARD
BEGIN:DAYLIGHT
TZOFFSETFROM:-0800
TZOFFSETTO:-0700
TZNAME:PDT
DTSTART:20260308T100000
END:DAYLIGHT
BEGIN:STANDARD
TZOFFSETFROM:-0700
TZOFFSETTO:-0800
TZNAME:PST
DTSTART:20261101T090000
END:STANDARD
END:VTIMEZONE
BEGIN:VEVENT
DTSTART;TZID=America/Los_Angeles:20250304T190000
DTEND;TZID=America/Los_Angeles:20250304T210000
DTSTAMP:20260425T204509
CREATED:20250208T232803Z
LAST-MODIFIED:20250208T232803Z
UID:4908-1741114800-1741122000@stuartgibbs.com
SUMMARY:Spy Ski School Graphic Novel launch at Once Upon A Time\, Montrose CA
DESCRIPTION:Come be one of the first people on earth to get a signed copy of SSS the GN! \nAnd for extra fun\, wear your best ski outfit. You might win a prize!
URL:https://stuartgibbs.com/event/spy-ski-school-graphic-novel-launch-at-once-upon-a-time-montrose-ca/
LOCATION:Once Upon A Time\, 2207 Honolulu Ave\, Montrose\, CA\, 91020\, United States
END:VEVENT
END:VCALENDAR